BEGIN:VCALENDAR
VERSION:2.0
METHOD:PUBLISH
PRODID:-//hacksw/handcal//NONSGML v1.0//EN
BEGIN:VEVENT
DTSTAMP:20260423T111614Z
DTSTART:20161113T000000Z
DTEND:20161113T174400Z
UID:20161113T000000Z-20161113T174400Z-355@akronago.org
SUMMARY:Charlotte Beers Plank (Anniversary Concert)
DESCRIPTION:This concert will celebrate the 25th anniversary of the Wi
 lhelm organ (dedicated on November 8\, 1991).\n\nFeaturing works of Bu
 xtehude\, Bach\, Mendelssohn\, Widor\, and Vaughan Williams\, with an 
 original composition by Aidan Plank.
X-ALT-DESC;FMTTYPE=text/html:<div class=page-restrict-output><p>This c
 oncert will celebrate the 25th anniversary of the Wilhelm organ (dedic
 ated on November 8\, 1991).</p>\n<p>Featuring works of Buxtehude\, Bac
 h\, Mendelssohn\, Widor\, and Vaughan Williams\, with an original comp
 osition by Aidan Plank.</p>\n</div>
URL:https://akronago.org/events/355/charlotte-beers-plank-anniversary-
 concert/?lang=en
ATTACH:https://akronago.org/events/355/charlotte-beers-plank-anniversa
 ry-concert/?lang=en
ATTACH:https://akronago.org/wp-content/uploads/CharlotteBeersPlankHead
 shot-150x150.jpg
LOCATION:First Congregational (Hudson)\, 47 Aurora St\, Hudson\, OH
END:VEVENT
END:VCALENDAR
