BEGIN:VCALENDAR
VERSION:2.0
METHOD:PUBLISH
PRODID:-//hacksw/handcal//NONSGML v1.0//EN
BEGIN:VEVENT
DTSTAMP:20260423T111933Z
DTSTART:20161203T150000Z
DTEND:20161203T170900Z
UID:20161203T150000Z-20161203T170900Z-354@akronago.org
SUMMARY:Christmas Tea (with Todd Wilson)
DESCRIPTION:Manor House Music Room and Auditorium at Stan Hywet Hall &
  Gardens\n\nMembers: $80\, Non-members: $100\n\nTake a break from the 
 hustle and bustle of the holiday season to enjoy our annual holiday te
 a. This event features a musical performance by the extraordinary Todd
  Wilson on the historic Aeolian Organ in the Manor’s Music Room follow
 ed by a holiday tea including savory tea sandwiches and sweets\, and a
  self-guided Manor House tour featuring over 20 rooms that have been d
 ecorated for the Christmas season. \n\nPlease register in advance onli
 ne at http://www.stanhywet.org/events/christmas-tea
X-ALT-DESC;FMTTYPE=text/html:<div class=page-restrict-output><p>Manor 
 House Music Room and Auditorium at Stan Hywet Hall & Gardens</p>\n<p>M
 embers: $80\, Non-members: $100</p>\n<p>Take a break from the hustle a
 nd bustle of the holiday season to enjoy our annual holiday tea. This 
 event features a musical performance by the extraordinary Todd Wilson 
 on the historic Aeolian Organ in the Manor’s Music Room followed by a 
 holiday tea including savory tea sandwiches and sweets\, and a self-gu
 ided Manor House tour featuring over 20 rooms that have been decorated
  for the Christmas season. </p>\n<p>Please register in advance online 
 at http://www.stanhywet.org/events/christmas-tea</p>\n</div>
URL:https://akronago.org/events/354/christmas-tea-with-todd-wilson/?la
 ng=en
ATTACH:https://akronago.org/events/354/christmas-tea-with-todd-wilson/
 ?lang=en
ATTACH:https://akronago.org/wp-content/uploads/Stan-Hywet-DTH-Dining-R
 m-Tea-Service-150x150.jpg
LOCATION:Stan Hywet Hall (Akron)\, 714 Portage Path\, Akron
END:VEVENT
END:VCALENDAR
