BEGIN:VCALENDAR
VERSION:2.0
METHOD:PUBLISH
PRODID:-//hacksw/handcal//NONSGML v1.0//EN
BEGIN:VEVENT
DTSTAMP:20260423T111655Z
DTSTART:20161023T200000Z
DTEND:20161024T175100Z
UID:20161023T200000Z-20161024T175100Z-352@akronago.org
SUMMARY:Evensong
DESCRIPTION:The Choirs of St. Paul's sing music of A. Herbert Brewer\,
  H. Balfour Gardiner\, and William Smith
X-ALT-DESC;FMTTYPE=text/html:<div class=page-restrict-output><p>The Ch
 oirs of St. Paul's sing music of A. Herbert Brewer\, H. Balfour Gardin
 er\, and William Smith</p>\n</div>
URL:https://akronago.org/events/352/evensong/?lang=en
ATTACH:https://akronago.org/events/352/evensong/?lang=en
LOCATION:St Paul's Episcopal (Akron)\, 1361 W Market St\, Akron
END:VEVENT
END:VCALENDAR
