BEGIN:VCALENDAR
VERSION:2.0
METHOD:PUBLISH
PRODID:-//hacksw/handcal//NONSGML v1.0//EN
BEGIN:VEVENT
DTSTAMP:20260423T111657Z
DTSTART:20161029T200000Z
DTEND:20161030T143300Z
UID:20161029T200000Z-20161030T143300Z-351@akronago.org
SUMMARY:Todd Wilson (Organ Restoration 10th Anniversary Concert)
DESCRIPTION:Organ Restoration Tenth Anniversary Concert of the E. M. S
 kinner Op. 647 Organ in the Helen Rockwell Morley Memorial Music Build
 ing\n\nMusic of Dupré\, Stanley\, Lang\, Bach\, Libby Larsen\, and Wid
 or\n\nhttps://www.lec.edu/organ
X-ALT-DESC;FMTTYPE=text/html:<div class=page-restrict-output><p>Organ 
 Restoration Tenth Anniversary Concert of the E. M. Skinner Op. 647 Org
 an in the Helen Rockwell Morley Memorial Music Building</p>\n<p>Music 
 of Dupré\, Stanley\, Lang\, Bach\, Libby Larsen\, and Widor</p>\n<p>ht
 tps://www.lec.edu/organ</p>\n</div>
URL:https://akronago.org/events/351/todd-wilson-organ-restoration-10th
 -anniversary-concert/?lang=en
ATTACH:https://akronago.org/events/351/todd-wilson-organ-restoration-1
 0th-anniversary-concert/?lang=en
ATTACH:https://akronago.org/wp-content/uploads/todd-wilson-200x300-150
 x150.jpg
LOCATION:Lake Erie College (Painesville)\, 391 West Washington St\, Pa
 inesville OH
END:VEVENT
END:VCALENDAR
