BEGIN:VCALENDAR
VERSION:2.0
METHOD:PUBLISH
PRODID:-//hacksw/handcal//NONSGML v1.0//EN
BEGIN:VEVENT
DTSTAMP:20260423T111913Z
DTSTART:20160925T210000Z
DTEND:20160926T190900Z
UID:20160925T210000Z-20160926T190900Z-350@akronago.org
SUMMARY:Thom Miles (Dedication of MP Rathke organ)
DESCRIPTION:Organ Dedication Recital of M.P. Rathke\, Inc. Opus 8 Pipe
  Organ\nReception following
X-ALT-DESC;FMTTYPE=text/html:<div class=page-restrict-output><p>Organ 
 Dedication Recital of M.P. Rathke\, Inc. Opus 8 Pipe Organ<br>\nRecept
 ion following</p>\n</div>
URL:https://akronago.org/events/350/thom-miles-dedication-of-mp-rathke
 -organ/?lang=en
ATTACH:https://akronago.org/events/350/thom-miles-dedication-of-mp-rat
 hke-organ/?lang=en
LOCATION:Newtown United Methodist\, 3546 Church Street\, Newtown OH
END:VEVENT
END:VCALENDAR
