BEGIN:VCALENDAR
VERSION:2.0
METHOD:PUBLISH
PRODID:-//hacksw/handcal//NONSGML v1.0//EN
BEGIN:VEVENT
DTSTAMP:20260423T111654Z
DTSTART:20110220T200000Z
DTEND:20110220T040000Z
UID:20110220T200000Z-20110220T040000Z-35@akronago.org
SUMMARY:Daniel Fortune
DESCRIPTION:Sounds Baroque — Baroque and neo-Baroque compositions will
  be featured that highlight the 38-rank Holtkamp organ\n\nDaniel Fortu
 ne is organist of St. Paul's Episcopal Church in Akron.
X-ALT-DESC;FMTTYPE=text/html:<div class=page-restrict-output><p>Sounds
  Baroque — Baroque and neo-Baroque compositions will be featured that 
 highlight the 38-rank Holtkamp organ</p>\n<p>Daniel Fortune is organis
 t of St. Paul's Episcopal Church in Akron.</p>\n</div>
URL:https://akronago.org/events/35/daniel-fortune/?lang=en
ATTACH:https://akronago.org/events/35/daniel-fortune/?lang=en
LOCATION:Fairlawn Lutheran\, 3415 W Market St\, Fairlawn\, OH
END:VEVENT
END:VCALENDAR
