BEGIN:VCALENDAR
VERSION:2.0
METHOD:PUBLISH
PRODID:-//hacksw/handcal//NONSGML v1.0//EN
BEGIN:VEVENT
DTSTAMP:20260423T111737Z
DTSTART:20161023T200000Z
DTEND:20161024T015800Z
UID:20161023T200000Z-20161024T015800Z-348@akronago.org
SUMMARY:Bob Mollard Celebrates 50 Years of Music Ministry
DESCRIPTION:Bob Mollard celebrates this golden anniversary joined by m
 usical friends. Reception following.
X-ALT-DESC;FMTTYPE=text/html:<div class=page-restrict-output><p>Bob Mo
 llard celebrates this golden anniversary joined by musical friends. Re
 ception following.</p>\n</div>
URL:https://akronago.org/events/348/bob-mollard-celebrates-50-years-of
 -music-ministry/?lang=en
ATTACH:https://akronago.org/events/348/bob-mollard-celebrates-50-years
 -of-music-ministry/?lang=en
LOCATION:Faith Lutheran (Akron)\, 2726 W Market St\, Akron
END:VEVENT
END:VCALENDAR
