BEGIN:VCALENDAR
VERSION:2.0
METHOD:PUBLISH
PRODID:-//hacksw/handcal//NONSGML v1.0//EN
BEGIN:VEVENT
DTSTAMP:20260423T123841Z
DTSTART:20170423T083700Z
DTEND:20170423T083700Z
UID:20170423T083700Z-20170423T083700Z-347@akronago.org
SUMMARY:Christopher Houlihan
DESCRIPTION:Tickets: boxoffice@stambaughauditorium.com  or 330-259-055
 5
X-ALT-DESC;FMTTYPE=text/html:<div class=page-restrict-output><p>Ticket
 s: &#98\;&#x6f\;&#120\;&#x6f\;&#102\;&#x66\;i&#x63\;e&#x40\;s&#x74\;a&
 #109\;&#x62\;&#97\;&#x75\;&#103\;&#x68\;&#97\;&#x75\;&#100\;&#x69\;t&#
 x6f\;r&#x69\;u&#x6d\;&#46\;&#99\;&#x6f\;&#109\;  or 330-259-0555</p>\n
 </div>
URL:https://akronago.org/events/347/christopher-houlihan/?lang=en
ATTACH:https://akronago.org/events/347/christopher-houlihan/?lang=en
ATTACH:https://akronago.org/wp-content/uploads/houlihan-christopher-15
 0x150.jpg
LOCATION:Stambaugh Auditorium (Youngstown)\, 1000 Fifth Ave\, Youngsto
 wn
END:VEVENT
END:VCALENDAR
