BEGIN:VCALENDAR
VERSION:2.0
METHOD:PUBLISH
PRODID:-//hacksw/handcal//NONSGML v1.0//EN
BEGIN:VEVENT
DTSTAMP:20260423T111807Z
DTSTART:20161120T230000Z
DTEND:20161121T083400Z
UID:20161120T230000Z-20161121T083400Z-346@akronago.org
SUMMARY:Alan Morrison
DESCRIPTION:Alan Morrison is Head of the Organ Department at the Curti
 s Institute of Music and is on the organ faculty Westminster Choir Col
 lege.
X-ALT-DESC;FMTTYPE=text/html:<div class=page-restrict-output><p>Alan M
 orrison is Head of the Organ Department at the Curtis Institute of Mus
 ic and is on the organ faculty Westminster Choir College.</p>\n</div>
URL:https://akronago.org/events/346/alan-morrison/?lang=en
ATTACH:https://akronago.org/events/346/alan-morrison/?lang=en
ATTACH:https://akronago.org/wp-content/uploads/morrison-alan-150x150.j
 pg
LOCATION:Stambaugh Auditorium (Youngstown)\, 1000 Fifth Ave\, Youngsto
 wn
END:VEVENT
END:VCALENDAR
