BEGIN:VCALENDAR
VERSION:2.0
METHOD:PUBLISH
PRODID:-//hacksw/handcal//NONSGML v1.0//EN
BEGIN:VEVENT
DTSTAMP:20260423T111905Z
DTSTART:20161023T200000Z
DTEND:20161024T082900Z
UID:20161023T200000Z-20161024T082900Z-345@akronago.org
SUMMARY:Peter Richard Conte (Silent Film: Nosferatu)
DESCRIPTION:
X-ALT-DESC;FMTTYPE=text/html:<div class=page-restrict-output></div>
URL:https://akronago.org/events/345/peter-richard-conte-silent-film-no
 sferatu/?lang=en
ATTACH:https://akronago.org/events/345/peter-richard-conte-silent-film
 -nosferatu/?lang=en
ATTACH:https://akronago.org/wp-content/uploads/conte-peter-richard-150
 x150.jpg
LOCATION:Stambaugh Auditorium (Youngstown)\, 1000 Fifth Ave\, Youngsto
 wn
END:VEVENT
END:VCALENDAR
