BEGIN:VCALENDAR
VERSION:2.0
METHOD:PUBLISH
PRODID:-//hacksw/handcal//NONSGML v1.0//EN
BEGIN:VEVENT
DTSTAMP:20260423T111655Z
DTSTART:20170514T210000Z
DTEND:20170515T082800Z
UID:20170514T210000Z-20170515T082800Z-344@akronago.org
SUMMARY:Opera/Broadway Gala
DESCRIPTION:
X-ALT-DESC;FMTTYPE=text/html:<div class=page-restrict-output></div>
URL:https://akronago.org/events/344/operabroadway-gala/?lang=en
ATTACH:https://akronago.org/events/344/operabroadway-gala/?lang=en
LOCATION:Westminster Presbyterian (Akron)\, 1250 W Exchange St\, Akron
END:VEVENT
END:VCALENDAR
