BEGIN:VCALENDAR
VERSION:2.0
METHOD:PUBLISH
PRODID:-//hacksw/handcal//NONSGML v1.0//EN
BEGIN:VEVENT
DTSTAMP:20260423T111809Z
DTSTART:20170507T200000Z
DTEND:20170508T082700Z
UID:20170507T200000Z-20170508T082700Z-343@akronago.org
SUMMARY:Four High School Choirs Music Festival
DESCRIPTION:Revere\, Copley-Fairlawn\, Firestone\, and Medina High Sch
 ool Choirs
X-ALT-DESC;FMTTYPE=text/html:<div class=page-restrict-output><p>Revere
 \, Copley-Fairlawn\, Firestone\, and Medina High School Choirs</p>\n</
 div>
URL:https://akronago.org/events/343/four-high-school-choirs-music-fest
 ival/?lang=en
ATTACH:https://akronago.org/events/343/four-high-school-choirs-music-f
 estival/?lang=en
LOCATION:Fairlawn Lutheran\, 3415 W Market St\, Fairlawn\, OH
END:VEVENT
END:VCALENDAR
