BEGIN:VCALENDAR
VERSION:2.0
METHOD:PUBLISH
PRODID:-//hacksw/handcal//NONSGML v1.0//EN
BEGIN:VEVENT
DTSTAMP:20260423T111657Z
DTSTART:20170312T210000Z
DTEND:20170313T081800Z
UID:20170312T210000Z-20170313T081800Z-341@akronago.org
SUMMARY:John Sherer
DESCRIPTION:John Sherer is organist at Fourth Presbyterian Church in C
 hicago\, Illinois
X-ALT-DESC;FMTTYPE=text/html:<div class=page-restrict-output><p>John S
 herer is organist at Fourth Presbyterian Church in Chicago\, Illinois<
 /p>\n</div>
URL:https://akronago.org/events/341/john-sherer/?lang=en
ATTACH:https://akronago.org/events/341/john-sherer/?lang=en
ATTACH:https://akronago.org/wp-content/uploads/john-sherer-142817-400p
 x-150x150.jpg
LOCATION:Westminster Presbyterian (Akron)\, 1250 W Exchange St\, Akron
END:VEVENT
END:VCALENDAR
