BEGIN:VCALENDAR
VERSION:2.0
METHOD:PUBLISH
PRODID:-//hacksw/handcal//NONSGML v1.0//EN
BEGIN:VEVENT
DTSTAMP:20260423T111728Z
DTSTART:20170226T200000Z
DTEND:20170227T081700Z
UID:20170226T200000Z-20170227T081700Z-340@akronago.org
SUMMARY:Singing Angels
DESCRIPTION:
X-ALT-DESC;FMTTYPE=text/html:<div class=page-restrict-output></div>
URL:https://akronago.org/events/340/singing-angels/?lang=en
ATTACH:https://akronago.org/events/340/singing-angels/?lang=en
ATTACH:https://akronago.org/wp-content/uploads/singing-angels-150x150.
 jpg
LOCATION:Fairlawn Lutheran\, 3415 W Market St\, Fairlawn\, OH
END:VEVENT
END:VCALENDAR
