BEGIN:VCALENDAR
VERSION:2.0
METHOD:PUBLISH
PRODID:-//hacksw/handcal//NONSGML v1.0//EN
BEGIN:VEVENT
DTSTAMP:20260423T111653Z
DTSTART:20110320T210000Z
DTEND:20110320T040000Z
UID:20110320T210000Z-20110320T040000Z-34@akronago.org
SUMMARY:Akron Baroque Orchestra
DESCRIPTION:Akron Baroque Orchestra is part of the Five at Five series
 .
X-ALT-DESC;FMTTYPE=text/html:<div class=page-restrict-output><p><a hre
 f=http://www.akronbaroque.org/>Akron Baroque Orchestra</a> is part of 
 the <a href=http://www.westminsterakron.com/#/fivefive>Five at Five</a
 > series.</p>\n</div>
URL:https://akronago.org/events/34/akron-baroque-orchestra/?lang=en
ATTACH:https://akronago.org/events/34/akron-baroque-orchestra/?lang=en
LOCATION:Westminster Presbyterian (Akron)\, 1250 W Exchange St\, Akron
END:VEVENT
END:VCALENDAR
