BEGIN:VCALENDAR
VERSION:2.0
METHOD:PUBLISH
PRODID:-//hacksw/handcal//NONSGML v1.0//EN
BEGIN:VEVENT
DTSTAMP:20260423T112007Z
DTSTART:20161211T200000Z
DTEND:20161212T081500Z
UID:20161211T200000Z-20161212T081500Z-339@akronago.org
SUMMARY:Master Singers Christmas Concert
DESCRIPTION:
X-ALT-DESC;FMTTYPE=text/html:<div class=page-restrict-output></div>
URL:https://akronago.org/events/339/master-singers-christmas-concert/?
 lang=en
ATTACH:https://akronago.org/events/339/master-singers-christmas-concer
 t/?lang=en
LOCATION:Fairlawn Lutheran\, 3415 W Market St\, Fairlawn\, OH
END:VEVENT
END:VCALENDAR
