BEGIN:VCALENDAR
VERSION:2.0
METHOD:PUBLISH
PRODID:-//hacksw/handcal//NONSGML v1.0//EN
BEGIN:VEVENT
DTSTAMP:20260423T111915Z
DTSTART:20161113T200000Z
DTEND:20161114T081300Z
UID:20161113T200000Z-20161114T081300Z-338@akronago.org
SUMMARY:Favorites (Mary Ragna Yetter\, Jim Storry\, Lynn Frey-Steward\
 , Gary Pinter)
DESCRIPTION:
X-ALT-DESC;FMTTYPE=text/html:<div class=page-restrict-output></div>
URL:https://akronago.org/events/338/favorites-mary-ragna-yetter-jim-st
 orry-lynn-frey-steward-gary-pinter/?lang=en
ATTACH:https://akronago.org/events/338/favorites-mary-ragna-yetter-jim
 -storry-lynn-frey-steward-gary-pinter/?lang=en
LOCATION:Fairlawn Lutheran\, 3415 W Market St\, Fairlawn\, OH
END:VEVENT
END:VCALENDAR
