BEGIN:VCALENDAR
VERSION:2.0
METHOD:PUBLISH
PRODID:-//hacksw/handcal//NONSGML v1.0//EN
BEGIN:VEVENT
DTSTAMP:20260423T111806Z
DTSTART:20161106T210000Z
DTEND:20161107T081200Z
UID:20161106T210000Z-20161107T081200Z-337@akronago.org
SUMMARY:Choral Festival: Fauré Requiem
DESCRIPTION:
X-ALT-DESC;FMTTYPE=text/html:<div class=page-restrict-output></div>
URL:https://akronago.org/events/337/choral-festival-faure-requiem/?lan
 g=en
ATTACH:https://akronago.org/events/337/choral-festival-faure-requiem/?
 lang=en
LOCATION:Westminster Presbyterian (Akron)\, 1250 W Exchange St\, Akron
END:VEVENT
END:VCALENDAR
