BEGIN:VCALENDAR
VERSION:2.0
METHOD:PUBLISH
PRODID:-//hacksw/handcal//NONSGML v1.0//EN
BEGIN:VEVENT
DTSTAMP:20260423T111902Z
DTSTART:20161016T200000Z
DTEND:20161017T081100Z
UID:20161016T200000Z-20161017T081100Z-336@akronago.org
SUMMARY:University of Akron Choirs
DESCRIPTION:Chamber\, Men's\, and Concert Choirs
X-ALT-DESC;FMTTYPE=text/html:<div class=page-restrict-output><p>Chambe
 r\, Men's\, and Concert Choirs</p>\n</div>
URL:https://akronago.org/events/336/university-of-akron-choirs/?lang=e
 n
ATTACH:https://akronago.org/events/336/university-of-akron-choirs/?lan
 g=en
LOCATION:Fairlawn Lutheran\, 3415 W Market St\, Fairlawn\, OH
END:VEVENT
END:VCALENDAR
