BEGIN:VCALENDAR
VERSION:2.0
METHOD:PUBLISH
PRODID:-//hacksw/handcal//NONSGML v1.0//EN
BEGIN:VEVENT
DTSTAMP:20260423T111809Z
DTSTART:20161002T210000Z
DTEND:20161003T080700Z
UID:20161002T210000Z-20161003T080700Z-335@akronago.org
SUMMARY:Akron Baroque
DESCRIPTION:
X-ALT-DESC;FMTTYPE=text/html:<div class=page-restrict-output></div>
URL:https://akronago.org/events/335/akron-baroque/?lang=en
ATTACH:https://akronago.org/events/335/akron-baroque/?lang=en
LOCATION:Westminster Presbyterian (Akron)\, 1250 W Exchange St\, Akron
END:VEVENT
END:VCALENDAR
