BEGIN:VCALENDAR
VERSION:2.0
METHOD:PUBLISH
PRODID:-//hacksw/handcal//NONSGML v1.0//EN
BEGIN:VEVENT
DTSTAMP:20260423T111728Z
DTSTART:20170521T200000Z
DTEND:20170522T080000Z
UID:20170521T200000Z-20170522T080000Z-334@akronago.org
SUMMARY:Academy of Culture & Arts Student Recital
DESCRIPTION:
X-ALT-DESC;FMTTYPE=text/html:<div class=page-restrict-output></div>
URL:https://akronago.org/events/334/academy-of-culture-arts-student-re
 cital/?lang=en
ATTACH:https://akronago.org/events/334/academy-of-culture-arts-student
 -recital/?lang=en
LOCATION:St Sebastian RC (Akron)\, 476 Mull Ave\, Akron
END:VEVENT
END:VCALENDAR
