BEGIN:VCALENDAR
VERSION:2.0
METHOD:PUBLISH
PRODID:-//hacksw/handcal//NONSGML v1.0//EN
BEGIN:VEVENT
DTSTAMP:20260423T111915Z
DTSTART:20170507T203000Z
DTEND:20170508T075900Z
UID:20170507T203000Z-20170508T075900Z-333@akronago.org
SUMMARY:Catholic High School Choir Festival
DESCRIPTION:Featuring The Elms\, Hoban\, Walsh Jesuit\, and St. Vincen
 t/St. Mary High School Choirs\n\nDirectors – Sheila Hutzler\, Richard 
 Weber\, Clay East\, and Brooke Arbaugh
X-ALT-DESC;FMTTYPE=text/html:<div class=page-restrict-output><p>Featur
 ing The Elms\, Hoban\, Walsh Jesuit\, and St. Vincent/St. Mary High Sc
 hool Choirs</p>\n<p>Directors – Sheila Hutzler\, Richard Weber\, Clay 
 East\, and Brooke Arbaugh</p>\n</div>
URL:https://akronago.org/events/333/catholic-high-school-choir-festiva
 l/?lang=en
ATTACH:https://akronago.org/events/333/catholic-high-school-choir-fest
 ival/?lang=en
LOCATION:St Sebastian RC (Akron)\, 476 Mull Ave\, Akron
END:VEVENT
END:VCALENDAR
