BEGIN:VCALENDAR
VERSION:2.0
METHOD:PUBLISH
PRODID:-//hacksw/handcal//NONSGML v1.0//EN
BEGIN:VEVENT
DTSTAMP:20260423T111636Z
DTSTART:20170409T233000Z
DTEND:20170410T075800Z
UID:20170409T233000Z-20170410T075800Z-332@akronago.org
SUMMARY:Seven Last Words of Christ
DESCRIPTION:
X-ALT-DESC;FMTTYPE=text/html:<div class=page-restrict-output></div>
URL:https://akronago.org/events/332/seven-last-words-of-christ/?lang=e
 n
ATTACH:https://akronago.org/events/332/seven-last-words-of-christ/?lan
 g=en
LOCATION:St Sebastian RC (Akron)\, 476 Mull Ave\, Akron
END:VEVENT
END:VCALENDAR
