BEGIN:VCALENDAR
VERSION:2.0
METHOD:PUBLISH
PRODID:-//hacksw/handcal//NONSGML v1.0//EN
BEGIN:VEVENT
DTSTAMP:20260423T111616Z
DTSTART:20170319T200000Z
DTEND:20170320T075700Z
UID:20170319T200000Z-20170320T075700Z-331@akronago.org
SUMMARY:Barbara MacGregor
DESCRIPTION:Organ Music of the British Isles
X-ALT-DESC;FMTTYPE=text/html:<div class=page-restrict-output><p>Organ 
 Music of the British Isles</p>\n</div>
URL:https://akronago.org/events/331/barbara-macgregor/?lang=en
ATTACH:https://akronago.org/events/331/barbara-macgregor/?lang=en
ATTACH:https://akronago.org/wp-content/uploads/macgregor-barbara-150x1
 50.jpg
LOCATION:St Sebastian RC (Akron)\, 476 Mull Ave\, Akron
END:VEVENT
END:VCALENDAR
