BEGIN:VCALENDAR
VERSION:2.0
METHOD:PUBLISH
PRODID:-//hacksw/handcal//NONSGML v1.0//EN
BEGIN:VEVENT
DTSTAMP:20260423T111739Z
DTSTART:20170226T200000Z
DTEND:20170227T075300Z
UID:20170226T200000Z-20170227T075300Z-330@akronago.org
SUMMARY:General Guinness Band
DESCRIPTION:Listen to Irish Music and Learn to Irish Dance\n\nCover ch
 arge - tbd
X-ALT-DESC;FMTTYPE=text/html:<div class=page-restrict-output><p><b><i>
 Listen to Irish Music and Learn to Irish Dance</i></b></p>\n<p>Cover c
 harge - tbd</p>\n</div>
URL:https://akronago.org/events/330/general-guinness-band/?lang=en
ATTACH:https://akronago.org/events/330/general-guinness-band/?lang=en
ATTACH:https://akronago.org/wp-content/uploads/892717_1015133718707761
 6_1211993775_o-150x150.jpg
LOCATION:St Sebastian RC (Akron)\, 476 Mull Ave\, Akron
END:VEVENT
END:VCALENDAR
