BEGIN:VCALENDAR
VERSION:2.0
METHOD:PUBLISH
PRODID:-//hacksw/handcal//NONSGML v1.0//EN
BEGIN:VEVENT
DTSTAMP:20260423T111615Z
DTSTART:20110123T210000Z
DTEND:20110123T040000Z
UID:20110123T210000Z-20110123T040000Z-33@akronago.org
SUMMARY:Burning River Brass
DESCRIPTION:Burning River Brass is part of the Five at Five series.
X-ALT-DESC;FMTTYPE=text/html:<div class=page-restrict-output><p><a hre
 f=http://www.burningriverbrass.com/>Burning River Brass</a> is part of
  the <a href=http://www.westminsterakron.com/#/fivefive>Five at Five s
 eries</a>.</p>\n</div>
URL:https://akronago.org/events/33/burning-river-brass/?lang=en
ATTACH:https://akronago.org/events/33/burning-river-brass/?lang=en
LOCATION:Westminster Presbyterian (Akron)\, 1250 W Exchange St\, Akron
END:VEVENT
END:VCALENDAR
