BEGIN:VCALENDAR
VERSION:2.0
METHOD:PUBLISH
PRODID:-//hacksw/handcal//NONSGML v1.0//EN
BEGIN:VEVENT
DTSTAMP:20260423T111635Z
DTSTART:20161218T233000Z
DTEND:20161219T075200Z
UID:20161218T233000Z-20161219T075200Z-329@akronago.org
SUMMARY:Ceremony of Lessons & Carols
DESCRIPTION:Parish Choir\, Handbell Choir\, instruments\n\nLynn Frey-S
 teward\, Director
X-ALT-DESC;FMTTYPE=text/html:<div class=page-restrict-output><p>Parish
  Choir\, Handbell Choir\, instruments</p>\n<p>Lynn Frey-Steward\, Dire
 ctor</p>\n</div>
URL:https://akronago.org/events/329/ceremony-of-lessons-carols/?lang=e
 n
ATTACH:https://akronago.org/events/329/ceremony-of-lessons-carols/?lan
 g=en
LOCATION:St Sebastian RC (Akron)\, 476 Mull Ave\, Akron
END:VEVENT
END:VCALENDAR
