BEGIN:VCALENDAR
VERSION:2.0
METHOD:PUBLISH
PRODID:-//hacksw/handcal//NONSGML v1.0//EN
BEGIN:VEVENT
DTSTAMP:20260423T111827Z
DTSTART:20161220T160000Z
DTEND:20161221T075000Z
UID:20161220T160000Z-20161221T075000Z-328@akronago.org
SUMMARY:Mark Ludwig
DESCRIPTION:Advent Adoration and Organ Recital
X-ALT-DESC;FMTTYPE=text/html:<div class=page-restrict-output><p>Advent
  Adoration and Organ Recital</p>\n</div>
URL:https://akronago.org/events/328/mark-ludwig/?lang=en
ATTACH:https://akronago.org/events/328/mark-ludwig/?lang=en
LOCATION:St Sebastian RC (Akron)\, 476 Mull Ave\, Akron
END:VEVENT
END:VCALENDAR
