BEGIN:VCALENDAR
VERSION:2.0
METHOD:PUBLISH
PRODID:-//hacksw/handcal//NONSGML v1.0//EN
BEGIN:VEVENT
DTSTAMP:20260423T111912Z
DTSTART:20161213T160000Z
DTEND:20161214T074600Z
UID:20161213T160000Z-20161214T074600Z-327@akronago.org
SUMMARY:Brian Ebie
DESCRIPTION:Advent Adoration and Organ Recital
X-ALT-DESC;FMTTYPE=text/html:<div class=page-restrict-output><p>Advent
  Adoration and Organ Recital</p>\n</div>
URL:https://akronago.org/events/327/brian-ebie/?lang=en
ATTACH:https://akronago.org/events/327/brian-ebie/?lang=en
ATTACH:https://akronago.org/wp-content/uploads/ebie-brian-150x150.jpg
LOCATION:St Sebastian RC (Akron)\, 476 Mull Ave\, Akron
END:VEVENT
END:VCALENDAR
