BEGIN:VCALENDAR
VERSION:2.0
METHOD:PUBLISH
PRODID:-//hacksw/handcal//NONSGML v1.0//EN
BEGIN:VEVENT
DTSTAMP:20260423T111934Z
DTSTART:20161206T160000Z
DTEND:20161207T074500Z
UID:20161206T160000Z-20161207T074500Z-326@akronago.org
SUMMARY:Richard Shirey
DESCRIPTION:Advent Adoration and Organ Recital
X-ALT-DESC;FMTTYPE=text/html:<div class=page-restrict-output><p>Advent
  Adoration and Organ Recital</p>\n</div>
URL:https://akronago.org/events/326/richard-shirey/?lang=en
ATTACH:https://akronago.org/events/326/richard-shirey/?lang=en
LOCATION:St Sebastian RC (Akron)\, 476 Mull Ave\, Akron
END:VEVENT
END:VCALENDAR
