BEGIN:VCALENDAR
VERSION:2.0
METHOD:PUBLISH
PRODID:-//hacksw/handcal//NONSGML v1.0//EN
BEGIN:VEVENT
DTSTAMP:20260423T111904Z
DTSTART:20161129T160000Z
DTEND:20161130T074000Z
UID:20161129T160000Z-20161130T074000Z-325@akronago.org
SUMMARY:Gary Pinter
DESCRIPTION:Advent Adoration and Organ Recital
X-ALT-DESC;FMTTYPE=text/html:<div class=page-restrict-output><p>Advent
  Adoration and Organ Recital</p>\n</div>
URL:https://akronago.org/events/325/gary-pinter/?lang=en
ATTACH:https://akronago.org/events/325/gary-pinter/?lang=en
ATTACH:https://akronago.org/wp-content/uploads/pinter-gary-150x150.png
LOCATION:St Sebastian RC (Akron)\, 476 Mull Ave\, Akron
END:VEVENT
END:VCALENDAR
