BEGIN:VCALENDAR
VERSION:2.0
METHOD:PUBLISH
PRODID:-//hacksw/handcal//NONSGML v1.0//EN
BEGIN:VEVENT
DTSTAMP:20260423T111656Z
DTSTART:20161106T200000Z
DTEND:20161107T073900Z
UID:20161106T200000Z-20161107T073900Z-324@akronago.org
SUMMARY:Coffee House Concert (George Bachmann and Friends)
DESCRIPTION:Coffee\, tea\, and desserts will be served
X-ALT-DESC;FMTTYPE=text/html:<div class=page-restrict-output><p>Coffee
 \, tea\, and desserts will be served</p>\n</div>
URL:https://akronago.org/events/324/coffee-house-concert/?lang=en
ATTACH:https://akronago.org/events/324/coffee-house-concert/?lang=en
LOCATION:St Sebastian RC (Akron)\, 476 Mull Ave\, Akron
END:VEVENT
END:VCALENDAR
