BEGIN:VCALENDAR
VERSION:2.0
METHOD:PUBLISH
PRODID:-//hacksw/handcal//NONSGML v1.0//EN
BEGIN:VEVENT
DTSTAMP:20260423T111913Z
DTSTART:20161009T200000Z
DTEND:20161010T073800Z
UID:20161009T200000Z-20161010T073800Z-323@akronago.org
SUMMARY:Keller Consort
DESCRIPTION:Renaissance/Baroque instrumental music
X-ALT-DESC;FMTTYPE=text/html:<div class=page-restrict-output><p>Renais
 sance/Baroque instrumental music</p>\n</div>
URL:https://akronago.org/events/323/keller-consort/?lang=en
ATTACH:https://akronago.org/events/323/keller-consort/?lang=en
LOCATION:St Sebastian RC (Akron)\, 476 Mull Ave\, Akron
END:VEVENT
END:VCALENDAR
