BEGIN:VCALENDAR
VERSION:2.0
METHOD:PUBLISH
PRODID:-//hacksw/handcal//NONSGML v1.0//EN
BEGIN:VEVENT
DTSTAMP:20260423T111912Z
DTSTART:20160825T230000Z
DTEND:20160826T073700Z
UID:20160825T230000Z-20160826T073700Z-322@akronago.org
SUMMARY:Concert on the Lawn
DESCRIPTION:Featuring Teachers of the Academy
X-ALT-DESC;FMTTYPE=text/html:<div class=page-restrict-output><p>Featur
 ing Teachers of the Academy</p>\n</div>
URL:https://akronago.org/events/322/concert-on-the-lawn/?lang=en
ATTACH:https://akronago.org/events/322/concert-on-the-lawn/?lang=en
LOCATION:St Sebastian RC (Akron)\, 476 Mull Ave\, Akron
END:VEVENT
END:VCALENDAR
