BEGIN:VCALENDAR
VERSION:2.0
METHOD:PUBLISH
PRODID:-//hacksw/handcal//NONSGML v1.0//EN
BEGIN:VEVENT
DTSTAMP:20260423T111914Z
DTSTART:20160918T190000Z
DTEND:20160919T072900Z
UID:20160918T190000Z-20160919T072900Z-321@akronago.org
SUMMARY:Music of Eric Genuis
DESCRIPTION:
X-ALT-DESC;FMTTYPE=text/html:<div class=page-restrict-output></div>
URL:https://akronago.org/events/321/music-of-eric-genuis/?lang=en
ATTACH:https://akronago.org/events/321/music-of-eric-genuis/?lang=en
ATTACH:https://akronago.org/wp-content/uploads/genuis-eric-150x150.jpg
LOCATION:St Sebastian RC (Akron)\, 476 Mull Ave\, Akron
END:VEVENT
END:VCALENDAR
