BEGIN:VCALENDAR
VERSION:2.0
METHOD:PUBLISH
PRODID:-//hacksw/handcal//NONSGML v1.0//EN
BEGIN:VEVENT
DTSTAMP:20260423T111636Z
DTSTART:20160925T200000Z
DTEND:20160926T072100Z
UID:20160925T200000Z-20160926T072100Z-320@akronago.org
SUMMARY:Jazz Vespers with Paul Ferguson Jazz Ensemble
DESCRIPTION:
X-ALT-DESC;FMTTYPE=text/html:<div class=page-restrict-output></div>
URL:https://akronago.org/events/320/jazz-vespers-with-paul-ferguson-ja
 zz-ensemble/?lang=en
ATTACH:https://akronago.org/events/320/jazz-vespers-with-paul-ferguson
 -jazz-ensemble/?lang=en
ATTACH:https://akronago.org/wp-content/uploads/Paul-Ferguson-100x150.j
 pg
LOCATION:St John's Episcopal (Youngstown)\, 223 Wick Ave\, Youngstown
END:VEVENT
END:VCALENDAR
