BEGIN:VCALENDAR
VERSION:2.0
METHOD:PUBLISH
PRODID:-//hacksw/handcal//NONSGML v1.0//EN
BEGIN:VEVENT
DTSTAMP:20260423T111605Z
DTSTART:20160918T200000Z
DTEND:20160919T071600Z
UID:20160918T200000Z-20160919T071600Z-319@akronago.org
SUMMARY:Ray & Elizabeth Chenault\, organ-duo
DESCRIPTION:Stambaugh Organ Series\n\nTickets: boxoffice@stambaughaudi
 torium.com or 330.259.0555
X-ALT-DESC;FMTTYPE=text/html:<div class=page-restrict-output><p>Stamba
 ugh Organ Series</p>\n<p>Tickets: &#98\;&#x6f\;&#120\;&#x6f\;&#102\;&#
 x66\;&#105\;&#x63\;&#101\;&#x40\;&#115\;&#x74\;&#97\;&#x6d\;&#98\;&#x6
 1\;&#117\;&#x67\;&#104\;&#x61\;&#117\;&#x64\;&#105\;&#x74\;&#111\;&#x7
 2\;i&#x75\;m&#x2e\;c&#x6f\;m or 330.259.0555</p>\n</div>
URL:https://akronago.org/events/319/ray-elizabeth-chenault-organ-duo/?
 lang=en
ATTACH:https://akronago.org/events/319/ray-elizabeth-chenault-organ-du
 o/?lang=en
ATTACH:https://akronago.org/wp-content/uploads/ray_beth_chenault.jpg
LOCATION:Stambaugh Auditorium (Youngstown)\, 1000 Fifth Ave\, Youngsto
 wn
END:VEVENT
END:VCALENDAR
