BEGIN:VCALENDAR
VERSION:2.0
METHOD:PUBLISH
PRODID:-//hacksw/handcal//NONSGML v1.0//EN
BEGIN:VEVENT
DTSTAMP:20260423T112007Z
DTSTART:20160911T210000Z
DTEND:20160912T070900Z
UID:20160911T210000Z-20160912T070900Z-318@akronago.org
SUMMARY:Philip Thomson\, piano
DESCRIPTION:
X-ALT-DESC;FMTTYPE=text/html:<div class=page-restrict-output></div>
URL:https://akronago.org/events/318/philip-thomson-piano/?lang=en
ATTACH:https://akronago.org/events/318/philip-thomson-piano/?lang=en
ATTACH:https://akronago.org/wp-content/uploads/Thomson-150x150.jpg
LOCATION:Westminster Presbyterian (Akron)\, 1250 W Exchange St\, Akron
END:VEVENT
END:VCALENDAR
