BEGIN:VCALENDAR
VERSION:2.0
METHOD:PUBLISH
PRODID:-//hacksw/handcal//NONSGML v1.0//EN
BEGIN:VEVENT
DTSTAMP:20260423T111932Z
DTSTART:20161029T130000Z
DTEND:20161029T160000Z
UID:20161029T130000Z-20161029T160000Z-316@akronago.org
SUMMARY:Improvisation Workshop with Sándor Kádár
DESCRIPTION:
X-ALT-DESC;FMTTYPE=text/html:<div class=page-restrict-output></div>
URL:https://akronago.org/events/316/improvisation-workshop-with-sandor
 -kadar/?lang=en
ATTACH:https://akronago.org/events/316/improvisation-workshop-with-san
 dor-kadar/?lang=en
ATTACH:https://akronago.org/wp-content/uploads/kadar-sandor-150x150.jp
 g
LOCATION:Faith Lutheran (Akron)\, 2726 W Market St\, Akron
END:VEVENT
END:VCALENDAR
