BEGIN:VCALENDAR
VERSION:2.0
METHOD:PUBLISH
PRODID:-//hacksw/handcal//NONSGML v1.0//EN
BEGIN:VEVENT
DTSTAMP:20260423T112006Z
DTSTART:20160919T230000Z
DTEND:20160920T193800Z
UID:20160919T230000Z-20160920T193800Z-315@akronago.org
SUMMARY:Evening Prayer (Organ Vespers)
DESCRIPTION:Our first meeting of the year will be a Vespers service at
  Family of Faith UMC\,\nMonday evening September 19th at 7 pm. We are 
 looking for people who would like\nto participate in some way\, either
  musically\, doing a reading or in some other way. If\nyou would like 
 to be involved or have an idea or musical selection to contribute\, co
 ntact Rex Roseman at rosemanpiano@gmail.com or 330-289-2948. All ideas
  are welcome.
X-ALT-DESC;FMTTYPE=text/html:<div class=page-restrict-output><p>Our fi
 rst meeting of the year will be a Vespers service at Family of Faith U
 MC\,<br>\nMonday evening September 19th at 7 pm. We are looking for pe
 ople who would like<br>\nto participate in some way\, either musically
 \, doing a reading or in some other way. If<br>\nyou would like to be 
 involved or have an idea or musical selection to contribute\, contact 
 Rex Roseman at &#x72\;&#111\;&#x73\;&#x65\;m&#x61\;&#110\;p&#x69\;&#97
 \;n&#x6f\;&#64\;&#x67\;&#x6d\;a&#x69\;&#108\;&#46\;&#x63\;&#111\;m or 
 330-289-2948. All ideas are welcome.</p>\n</div>
URL:https://akronago.org/events/315/evening-prayer-organ-vespers/?lang
 =en
ATTACH:https://akronago.org/events/315/evening-prayer-organ-vespers/?l
 ang=en
LOCATION:Family of Faith United Methodist Church (Akron)\, 800 E Marke
 t St\, Akron
END:VEVENT
END:VCALENDAR
