BEGIN:VCALENDAR
VERSION:2.0
METHOD:PUBLISH
PRODID:-//hacksw/handcal//NONSGML v1.0//EN
BEGIN:VEVENT
DTSTAMP:20260423T111616Z
DTSTART:20160814T200000Z
DTEND:20160814T213100Z
UID:20160814T200000Z-20160814T213100Z-314@akronago.org
SUMMARY:U of A Brass Choir\, with Barbara MacGregor\, organist
DESCRIPTION:University of Akron Brass Choir\nTucker Jolly\, conductor\
 nBarbara MacGregor\, organist\n\nMusic of Duruflé\, Gabrieli\, Gigout\
 , Mussorgsky\, Widor\, and others\n\nJoin us for this Brass & Organ Sp
 ectacular\, featuring double and triple brass choirs\, and showcasing 
 our splendid 85-rank pipe organ.\n\nFree admission • Free will offerin
 g • Reception following\n\nSponsored by Billow Funeral Homes and the U
 niversity of Akron
X-ALT-DESC;FMTTYPE=text/html:<div class=page-restrict-output><p>Univer
 sity of Akron Brass Choir<br>\nTucker Jolly\, conductor<br>\nBarbara M
 acGregor\, organist</p>\n<p>Music of Duruflé\, Gabrieli\, Gigout\, Mus
 sorgsky\, Widor\, and others</p>\n<p>Join us for this Brass &amp\; Org
 an Spectacular\, featuring double and triple brass choirs\, and showca
 sing our splendid 85-rank pipe organ.</p>\n<p>Free admission • Free wi
 ll offering • Reception following</p>\n<p><em>Sponsored by Billow Fune
 ral Homes and the University of Akron</em></p>\n</div>
URL:https://akronago.org/events/314/u-of-a-brass-choir-with-barbara-ma
 cgregor-organist/?lang=en
ATTACH:https://akronago.org/events/314/u-of-a-brass-choir-with-barbara
 -macgregor-organist/?lang=en
LOCATION:St Paul's Episcopal (Akron)\, 1361 W Market St\, Akron
END:VEVENT
END:VCALENDAR
