BEGIN:VCALENDAR
VERSION:2.0
METHOD:PUBLISH
PRODID:-//hacksw/handcal//NONSGML v1.0//EN
BEGIN:VEVENT
DTSTAMP:20260423T111809Z
DTSTART:20160605T200000Z
DTEND:20160606T003600Z
UID:20160605T200000Z-20160606T003600Z-313@akronago.org
SUMMARY:Chapter Picnic
DESCRIPTION:
X-ALT-DESC;FMTTYPE=text/html:<div class=page-restrict-output></div>
URL:https://akronago.org/events/313/chapter-picnic/?lang=en
ATTACH:https://akronago.org/events/313/chapter-picnic/?lang=en
LOCATION:Home of Lynn Frey-Steward (North Canton)\, 1445 Salway Ave NW
 \, North Canton
END:VEVENT
END:VCALENDAR
