BEGIN:VCALENDAR
VERSION:2.0
METHOD:PUBLISH
PRODID:-//hacksw/handcal//NONSGML v1.0//EN
BEGIN:VEVENT
DTSTAMP:20260423T111828Z
DTSTART:20160206T000000Z
DTEND:20160206T013000Z
UID:20160206T000000Z-20160206T013000Z-312@akronago.org
SUMMARY:Choral Festival: Fundraiser for AGO Scholarships
DESCRIPTION:featuring Summit Bells (Chuck Kobb\, director) and area ch
 oirs
X-ALT-DESC;FMTTYPE=text/html:<div class=page-restrict-output><p>featur
 ing Summit Bells (Chuck Kobb\, director) and area choirs</p>\n</div>
URL:https://akronago.org/events/312/choral-festival-fundraiser-for-ago
 -scholarships/?lang=en
ATTACH:https://akronago.org/events/312/choral-festival-fundraiser-for-
 ago-scholarships/?lang=en
LOCATION:Kent United Methodist\, 1435 E Main Street\, Kent\, OH
END:VEVENT
END:VCALENDAR
