BEGIN:VCALENDAR
VERSION:2.0
METHOD:PUBLISH
PRODID:-//hacksw/handcal//NONSGML v1.0//EN
BEGIN:VEVENT
DTSTAMP:20260423T111912Z
DTSTART:20160122T233000Z
DTEND:20160123T003000Z
UID:20160122T233000Z-20160123T003000Z-311@akronago.org
SUMMARY:Quire Cleveland—Sing You After Me: 8 Centuries of Wondrous Can
 ons & Rounds
DESCRIPTION:Free admission\; free will offering.\nSponsored by Billow 
 Funeral Homes
X-ALT-DESC;FMTTYPE=text/html:<div class=page-restrict-output><p>Free a
 dmission\; free will offering.<br>\n<em>Sponsored by Billow Funeral Ho
 mes</em></p>\n</div>
URL:https://akronago.org/events/311/quire-cleveland-e2-80-94sing-you-a
 fter-me-8-centuries-of-wondrous-canons-rounds/?lang=en
ATTACH:https://akronago.org/events/311/quire-cleveland-e2-80-94sing-yo
 u-after-me-8-centuries-of-wondrous-canons-rounds/?lang=en
LOCATION:St Paul's Episcopal (Akron)\, 1361 W Market St\, Akron
END:VEVENT
END:VCALENDAR
