BEGIN:VCALENDAR
VERSION:2.0
METHOD:PUBLISH
PRODID:-//hacksw/handcal//NONSGML v1.0//EN
BEGIN:VEVENT
DTSTAMP:20260423T111737Z
DTSTART:20160103T200000Z
DTEND:20160104T002800Z
UID:20160103T200000Z-20160104T002800Z-310@akronago.org
SUMMARY:Tenth Annual High School Music Festival
DESCRIPTION:Firestone\, Revere\, Copley-Fairlawn\, and Median High Sch
 ool Choirs\nDirected by Chad Pittman\, Alice Ward\, Basil Kochan\, and
  Tyler Skidmore\n\nFour high school choirs will participate in the ten
 th annual High School Music Festival. Each choir performs three select
 ions separately with one additional mass-choir selection. It is sung i
 n-the-round\, producing an inspiring effect for the audience.
X-ALT-DESC;FMTTYPE=text/html:<div class=page-restrict-output><p><stron
 g>Firestone\, Revere\, Copley-Fairlawn\, and Median High School Choirs
 </strong><br>\n<em>Directed by Chad Pittman\, Alice Ward\, Basil Kocha
 n\, and Tyler Skidmore</em></p>\n<p>Four high school choirs will parti
 cipate in the tenth annual High School Music Festival. Each choir perf
 orms three selections separately with one additional mass-choir select
 ion. It is sung in-the-round\, producing an inspiring effect for the a
 udience.</p>\n</div>
URL:https://akronago.org/events/310/tenth-annual-high-school-music-fes
 tival/?lang=en
ATTACH:https://akronago.org/events/310/tenth-annual-high-school-music-
 festival/?lang=en
LOCATION:Fairlawn Lutheran\, 3415 W Market St\, Fairlawn\, OH
END:VEVENT
END:VCALENDAR
