BEGIN:VCALENDAR
VERSION:2.0
METHOD:PUBLISH
PRODID:-//hacksw/handcal//NONSGML v1.0//EN
BEGIN:VEVENT
DTSTAMP:20260423T111914Z
DTSTART:20160410T200000Z
DTEND:20160411T002500Z
UID:20160410T200000Z-20160411T002500Z-309@akronago.org
SUMMARY:From Sea to Shining Sea\, Organ & Media Event: Dr. Jeanine & D
 avid Jordan
DESCRIPTION:From Sea to Shining Sea is an organ and media event featur
 ing the music\, anecdotes\, and images of the first 200 years of the o
 rgan in the Colonies and the United States. Dr. Jordan's intensive res
 earch into the lives of early American organists\, organs\, and organ 
 music led her to create this program in conjunction with media artist\
 , David Jordan. Mr. Jordan's images invite the listener to experience 
 a visual connection with the music and stories of Dr. Jordan's program
 .
X-ALT-DESC;FMTTYPE=text/html:<div class=page-restrict-output><p><stron
 g>From Sea to Shining Sea </strong>is an organ and media event featuri
 ng the music\, anecdotes\, and images of the first 200 years of the or
 gan in the Colonies and the United States. Dr. Jordan's intensive rese
 arch into the lives of early American organists\, organs\, and organ m
 usic led her to create this program in conjunction with media artist\,
  David Jordan. Mr. Jordan's images invite the listener to experience a
  visual connection with the music and stories of Dr. Jordan's program.
 </p>\n</div>
URL:https://akronago.org/events/309/from-sea-to-shining-sea-organ-medi
 a-event-dr-jeanine-david-jordan/?lang=en
ATTACH:https://akronago.org/events/309/from-sea-to-shining-sea-organ-m
 edia-event-dr-jeanine-david-jordan/?lang=en
LOCATION:Fairlawn Lutheran\, 3415 W Market St\, Fairlawn\, OH
END:VEVENT
END:VCALENDAR
