BEGIN:VCALENDAR
VERSION:2.0
METHOD:PUBLISH
PRODID:-//hacksw/handcal//NONSGML v1.0//EN
BEGIN:VEVENT
DTSTAMP:20260423T111738Z
DTSTART:20160109T143000Z
DTEND:20160109T160000Z
UID:20160109T143000Z-20160109T160000Z-308@akronago.org
SUMMARY:Choral Reading Workshop with Chad Pittman
DESCRIPTION:Join us for juice\, coffee\, and pastries from 10-10:30 am
  in the church's rear vestibule.
X-ALT-DESC;FMTTYPE=text/html:<div class=page-restrict-output><p>Join u
 s for juice\, coffee\, and pastries from 10-10:30 am in the church's r
 ear vestibule.</p>\n</div>
URL:https://akronago.org/events/308/choral-reading-workshop-with-chad-
 pittman/?lang=en
ATTACH:https://akronago.org/events/308/choral-reading-workshop-with-ch
 ad-pittman/?lang=en
LOCATION:St Sebastian RC (Akron)\, 476 Mull Ave\, Akron
END:VEVENT
END:VCALENDAR
