BEGIN:VCALENDAR
VERSION:2.0
METHOD:PUBLISH
PRODID:-//hacksw/handcal//NONSGML v1.0//EN
BEGIN:VEVENT
DTSTAMP:20260423T111827Z
DTSTART:20160306T200000Z
DTEND:20160307T035959Z
UID:20160306T200000Z-20160307T035959Z-307@akronago.org
SUMMARY:Ohio State Men's Glee Club & Chorale
DESCRIPTION:Directed by Dr. Robert Ward\n\nThe Ohio State University m
 en's Glee club\, organized in 1875\, was unanimously declared Choir of
  the World\, and the first male chorus and the first ensemble from the
  United States to win the competition. The flagship ensemble of the Oh
 io State University mixed choirs is the Ohio State Chorale\, made up o
 f 48 students selected by competitive audition. Both groups exemplify 
 the university's musical dedication to tradition\, excellence\, and di
 versity.
X-ALT-DESC;FMTTYPE=text/html:<div class=page-restrict-output><p>Direct
 ed by Dr. Robert Ward</p>\n<p>The Ohio State University men's Glee clu
 b\, organized in 1875\, was unanimously declared Choir of the World\, 
 and the first male chorus and the first ensemble from the United State
 s to win the competition. The flagship ensemble of the Ohio State Univ
 ersity mixed choirs is the Ohio State Chorale\, made up of 48 students
  selected by competitive audition. Both groups exemplify the universit
 y's musical dedication to tradition\, excellence\, and diversity.</p>\
 n</div>
URL:https://akronago.org/events/307/ohio-state-mens-glee-club-chorale/
 ?lang=en
ATTACH:https://akronago.org/events/307/ohio-state-mens-glee-club-chora
 le/?lang=en
LOCATION:Fairlawn Lutheran\, 3415 W Market St\, Fairlawn\, OH
END:VEVENT
END:VCALENDAR
