BEGIN:VCALENDAR
VERSION:2.0
METHOD:PUBLISH
PRODID:-//hacksw/handcal//NONSGML v1.0//EN
BEGIN:VEVENT
DTSTAMP:20260423T112009Z
DTSTART:20151220T233000Z
DTEND:20151220T040000Z
UID:20151220T233000Z-20151220T040000Z-305@akronago.org
SUMMARY:Messiah\, Part I—Music\, Scripture and Art Meet
DESCRIPTION:Singers Companye: Dr. Samuel Gordon\, artistic director\na
 nd Parish Choir: Lynn Frey-Steward\, director
X-ALT-DESC;FMTTYPE=text/html:<div class=page-restrict-output><p>Singer
 s Companye: Dr. Samuel Gordon\, artistic director<br>\nand Parish Choi
 r: Lynn Frey-Steward\, director</p>\n</div>
URL:https://akronago.org/events/305/messiah-part-i-e2-80-94music-scrip
 ture-and-art-meet/?lang=en
ATTACH:https://akronago.org/events/305/messiah-part-i-e2-80-94music-sc
 ripture-and-art-meet/?lang=en
LOCATION:St Sebastian RC (Akron)\, 476 Mull Ave\, Akron
END:VEVENT
END:VCALENDAR
