BEGIN:VCALENDAR
VERSION:2.0
METHOD:PUBLISH
PRODID:-//hacksw/handcal//NONSGML v1.0//EN
BEGIN:VEVENT
DTSTAMP:20260423T112008Z
DTSTART:20151204T233000Z
DTEND:20151204T040000Z
UID:20151204T233000Z-20151204T040000Z-303@akronago.org
SUMMARY:Lessons & Carols on Advent Sunday
DESCRIPTION:Trinity Brass\, Trinity Bells\, Trinity Choir\, Luther Cho
 ir
X-ALT-DESC;FMTTYPE=text/html:<div class=page-restrict-output><p>Trinit
 y Brass\, Trinity Bells\, Trinity Choir\, Luther Choir</p>\n</div>
URL:https://akronago.org/events/303/lessons-carols-on-advent-sunday/?l
 ang=en
ATTACH:https://akronago.org/events/303/lessons-carols-on-advent-sunday
 /?lang=en
LOCATION:Holy Trinity Lutheran (Akron)\, 50 North Prospect St\, Akron
END:VEVENT
END:VCALENDAR
